BEGIN:VCALENDAR
METHOD:REQUEST
PRODID:-//events.orgNONSGML ical.net 4.0//EN
VERSION:2.0
BEGIN:VEVENT
DTEND;VALUE=DATE:20260619
DTSTAMP:20260421T095245Z
DTSTART;VALUE=DATE:20260619
LOCATION:Cal Coast Credit Union Open Air Theatre at SDSU\, San Diego
ORGANIZER;CN=:mailto:events@events.org
SEQUENCE:0
SUMMARY:ALL THE FEELINGS TOUR with METRIC\, BROKEN SOCIAL SCENE\, AND STARS
UID:03ea4981-d350-4ef5-af21-d3974765a322
URL:https://events.org/e/ALL-THE-FEELINGS-TOUR-with-METRIC-BROKEN-SOCI/QJ9
 XO8WA
BEGIN:VALARM
ACTION:DISPLAY
SUMMARY:Reminder
TRIGGER:-P1D
END:VALARM
END:VEVENT
END:VCALENDAR
