BEGIN:VCALENDAR
METHOD:REQUEST
PRODID:-//events.orgNONSGML ical.net 4.0//EN
VERSION:2.0
BEGIN:VEVENT
DTEND;VALUE=DATE:20260528
DTSTAMP:20260424T081130Z
DTSTART;VALUE=DATE:20260528
LOCATION:Underground Arts\, Philadelphia
ORGANIZER;CN=:mailto:events@events.org
SEQUENCE:0
SUMMARY:High Fade with Natalie Brooke (21+ Event)
UID:8c8f224f-887d-43e2-99f1-6432b750c9eb
URL:https://events.org/e/High-Fade-with-Natalie-Brooke-21-Event/DH9HB6OM
BEGIN:VALARM
ACTION:DISPLAY
SUMMARY:Reminder
TRIGGER:-P1D
END:VALARM
END:VEVENT
END:VCALENDAR
