BEGIN:VCALENDAR
METHOD:REQUEST
PRODID:-//events.orgNONSGML ical.net 4.0//EN
VERSION:2.0
BEGIN:VEVENT
DTEND;VALUE=DATE:20260331
DTSTAMP:20260421T121038Z
DTSTART;VALUE=DATE:20260331
LOCATION:Civic Opera House\, Chicago
ORGANIZER;CN=:mailto:events@events.org
SEQUENCE:0
SUMMARY:Madama Butterfly
UID:c6460d69-caac-4ac6-afee-93b40d25a971
URL:https://events.org/e/Madama-Butterfly/QXJAOKMC
BEGIN:VALARM
ACTION:DISPLAY
SUMMARY:Reminder
TRIGGER:-P1D
END:VALARM
END:VEVENT
END:VCALENDAR
