BEGIN:VCALENDAR
METHOD:REQUEST
PRODID:-//events.orgNONSGML ical.net 4.0//EN
VERSION:2.0
BEGIN:VEVENT
DTEND;VALUE=DATE:20260306
DTSTAMP:20260421T084141Z
DTSTART;VALUE=DATE:20260306
LOCATION:Imperial Theatre\, New York
ORGANIZER;CN=:mailto:events@events.org
SEQUENCE:0
SUMMARY:Chess
UID:5b37d96c-7dc4-4532-b8cd-d939d8aa878b
URL:https://events.org/e/Chess/QX5A6GDI
BEGIN:VALARM
ACTION:DISPLAY
SUMMARY:Reminder
TRIGGER:-P1D
END:VALARM
END:VEVENT
END:VCALENDAR
