BEGIN:VCALENDAR
METHOD:REQUEST
PRODID:-//events.orgNONSGML ical.net 4.0//EN
VERSION:2.0
BEGIN:VEVENT
DTEND;VALUE=DATE:20260710
DTSTAMP:20260424T092741Z
DTSTART;VALUE=DATE:20260710
LOCATION:Moore Theatre\, Seattle
ORGANIZER;CN=:mailto:events@events.org
SEQUENCE:0
SUMMARY:DANCE This!
UID:0e99a089-006d-4f9a-8124-8bfb00e441bc
URL:https://events.org/e/DANCE-This/ND8WH5QW
BEGIN:VALARM
ACTION:DISPLAY
SUMMARY:Reminder
TRIGGER:-P1D
END:VALARM
END:VEVENT
END:VCALENDAR
