BEGIN:VCALENDAR
METHOD:REQUEST
PRODID:-//events.orgNONSGML ical.net 4.0//EN
VERSION:2.0
BEGIN:VEVENT
DTEND;VALUE=DATE:20260904
DTSTAMP:20260419T091758Z
DTSTART;VALUE=DATE:20260904
LOCATION:Citizens Bank Park\, Philadelphia
ORGANIZER;CN=:mailto:events@events.org
SEQUENCE:0
SUMMARY:Philadelphia Phillies vs. Atlanta Braves
UID:0da3e49d-80ea-48ee-8866-6a26c6d27c58
URL:https://events.org/e/Philadelphia-Phillies-vs-Atlanta-Braves/I92EIA2P
BEGIN:VALARM
ACTION:DISPLAY
SUMMARY:Reminder
TRIGGER:-P1D
END:VALARM
END:VEVENT
END:VCALENDAR
