BEGIN:VCALENDAR
METHOD:REQUEST
PRODID:-//events.orgNONSGML ical.net 4.0//EN
VERSION:2.0
BEGIN:VEVENT
DTEND;VALUE=DATE:20260619
DTSTAMP:20260421T104354Z
DTSTART;VALUE=DATE:20260619
LOCATION:Buell Theatre\, Denver
ORGANIZER;CN=:mailto:events@events.org
SEQUENCE:0
SUMMARY:Harry Potter and the Cursed Child (Touring)
UID:64f748e3-5ab8-41c3-8f5e-0d5af4e9b419
URL:https://events.org/e/Harry-Potter-and-the-Cursed-Child-Touring/EVSKUECI
BEGIN:VALARM
ACTION:DISPLAY
SUMMARY:Reminder
TRIGGER:-P1D
END:VALARM
END:VEVENT
END:VCALENDAR
