BEGIN:VCALENDAR
METHOD:REQUEST
PRODID:-//events.orgNONSGML ical.net 4.0//EN
VERSION:2.0
BEGIN:VEVENT
DTEND;VALUE=DATE:20260321
DTSTAMP:20260421T082224Z
DTSTART;VALUE=DATE:20260321
LOCATION:Empty Bottle\, Chicago
ORGANIZER;CN=:mailto:events@events.org
SEQUENCE:0
SUMMARY:HighSchool / Taraneh
UID:1b9fe3ab-4e31-444e-9445-687b4ff028c7
URL:https://events.org/e/HighSchool-Taraneh/DKSV9GME
BEGIN:VALARM
ACTION:DISPLAY
SUMMARY:Reminder
TRIGGER:-P1D
END:VALARM
END:VEVENT
END:VCALENDAR
