BEGIN:VCALENDAR
METHOD:REQUEST
PRODID:-//events.orgNONSGML ical.net 4.0//EN
VERSION:2.0
BEGIN:VEVENT
DTEND;VALUE=DATE:20260929
DTSTAMP:20260424T092725Z
DTSTART;VALUE=DATE:20260929
LOCATION:Improv Comedy Club- DC\, Washington
ORGANIZER;CN=:mailto:events@events.org
SEQUENCE:0
SUMMARY:Vidura Bandara Rajapaksa
UID:b3e179ca-1b34-4454-8857-6efe6768ef96
URL:https://events.org/e/Vidura-Bandara-Rajapaksa/BCPMK4YS
BEGIN:VALARM
ACTION:DISPLAY
SUMMARY:Reminder
TRIGGER:-P1D
END:VALARM
END:VEVENT
END:VCALENDAR
