BEGIN:VCALENDAR
METHOD:REQUEST
PRODID:-//events.orgNONSGML ical.net 4.0//EN
VERSION:2.0
BEGIN:VEVENT
DTEND;VALUE=DATE:20260925
DTSTAMP:20260424T092327Z
DTSTART;VALUE=DATE:20260925
LOCATION:Voodoo Room at the House of Blues San Diego\, San Diego
ORGANIZER;CN=:mailto:events@events.org
SEQUENCE:0
SUMMARY:Jesse Baez
UID:adbbbdb7-63f0-4425-aa1a-23d8111bca4d
URL:https://events.org/e/Jesse-Baez/96QMOV48
BEGIN:VALARM
ACTION:DISPLAY
SUMMARY:Reminder
TRIGGER:-P1D
END:VALARM
END:VEVENT
END:VCALENDAR
