BEGIN:VCALENDAR
METHOD:REQUEST
PRODID:-//events.orgNONSGML ical.net 4.0//EN
VERSION:2.0
BEGIN:VEVENT
DTEND;VALUE=DATE:20260423
DTSTAMP:20260422T091309Z
DTSTART;VALUE=DATE:20260423
LOCATION:Blue Note - NY\, New York
ORGANIZER;CN=:mailto:events@events.org
SEQUENCE:0
SUMMARY:Jacob Collier w/ Chris Thile
UID:662f4fc4-dc9d-47ce-bac0-3686d70fb103
URL:https://events.org/e/Jacob-Collier-w-Chris-Thile/S35J83W6
BEGIN:VALARM
ACTION:DISPLAY
SUMMARY:Reminder
TRIGGER:-P1D
END:VALARM
END:VEVENT
END:VCALENDAR
