BEGIN:VCALENDAR
METHOD:REQUEST
PRODID:-//events.orgNONSGML ical.net 4.0//EN
VERSION:2.0
BEGIN:VEVENT
DTEND;VALUE=DATE:20260804
DTSTAMP:20260422T091420Z
DTSTART;VALUE=DATE:20260804
LOCATION:713 Music Hall\, Houston
ORGANIZER;CN=:mailto:events@events.org
SEQUENCE:0
SUMMARY:Yeat: The LOVE/LYFE Tour
UID:2f5389be-bd4e-4952-8f62-7840271e2661
URL:https://events.org/e/Yeat-The-LOVELYFE-Tour/R4AIFOKM
BEGIN:VALARM
ACTION:DISPLAY
SUMMARY:Reminder
TRIGGER:-P1D
END:VALARM
END:VEVENT
END:VCALENDAR
