BEGIN:VCALENDAR
METHOD:REQUEST
PRODID:-//events.orgNONSGML ical.net 4.0//EN
VERSION:2.0
BEGIN:VEVENT
DTEND;VALUE=DATE:20260528
DTSTAMP:20260424T080546Z
DTSTART;VALUE=DATE:20260528
LOCATION:Foundation Room at House of Blues Chicago\, Chicago
ORGANIZER;CN=:mailto:events@events.org
SEQUENCE:0
SUMMARY:Chicago Comedy Club
UID:b27b17b2-9c6d-4fbe-934d-11f413d32ba5
URL:https://events.org/e/Chicago-Comedy-Club/NJI68P8U
BEGIN:VALARM
ACTION:DISPLAY
SUMMARY:Reminder
TRIGGER:-P1D
END:VALARM
END:VEVENT
END:VCALENDAR
