BEGIN:VCALENDAR
METHOD:REQUEST
PRODID:-//events.orgNONSGML ical.net 4.0//EN
VERSION:2.0
BEGIN:VEVENT
DTEND;VALUE=DATE:20260710
DTSTAMP:20260422T091353Z
DTSTART;VALUE=DATE:20260710
LOCATION:Terminal West\, Atlanta
ORGANIZER;CN=:mailto:events@events.org
SEQUENCE:0
SUMMARY:Pond
UID:066bf5a5-18d8-42d1-ab6d-61a757b6962a
URL:https://events.org/e/Pond/HBEP7TPN
BEGIN:VALARM
ACTION:DISPLAY
SUMMARY:Reminder
TRIGGER:-P1D
END:VALARM
END:VEVENT
END:VCALENDAR
