BEGIN:VCALENDAR
METHOD:REQUEST
PRODID:-//events.orgNONSGML ical.net 4.0//EN
VERSION:2.0
BEGIN:VEVENT
DTEND;VALUE=DATE:20260426
DTSTAMP:20260424T080939Z
DTSTART;VALUE=DATE:20260426
LOCATION:Palace Theatre New York\, New York
ORGANIZER;CN=:mailto:events@events.org
SEQUENCE:0
SUMMARY:The Lost Boys
UID:ec7001d1-26c9-49d7-98d6-189e6d0c5fba
URL:https://events.org/e/The-Lost-Boys/XLTBRQJJ
BEGIN:VALARM
ACTION:DISPLAY
SUMMARY:Reminder
TRIGGER:-P1D
END:VALARM
END:VEVENT
END:VCALENDAR
