BEGIN:VCALENDAR
METHOD:REQUEST
PRODID:-//events.orgNONSGML ical.net 4.0//EN
VERSION:2.0
BEGIN:VEVENT
DTEND;VALUE=DATE:20260710
DTSTAMP:20260424T092203Z
DTSTART;VALUE=DATE:20260710
LOCATION:The 5th Avenue Theatre\, Seattle
ORGANIZER;CN=:mailto:events@events.org
SEQUENCE:0
SUMMARY:Modest Mouse
UID:28868d4a-d1bb-4dca-8776-08c8529ce605
URL:https://events.org/e/Modest-Mouse/7L7M3STO
BEGIN:VALARM
ACTION:DISPLAY
SUMMARY:Reminder
TRIGGER:-P1D
END:VALARM
END:VEVENT
END:VCALENDAR
