BEGIN:VCALENDAR
METHOD:REQUEST
PRODID:-//events.orgNONSGML ical.net 4.0//EN
VERSION:2.0
BEGIN:VEVENT
DTEND;VALUE=DATE:20260712
DTSTAMP:20260424T092203Z
DTSTART;VALUE=DATE:20260712
LOCATION:Underground Arts\, Philadelphia
ORGANIZER;CN=:mailto:events@events.org
SEQUENCE:0
SUMMARY:The Strike (21+ Event)
UID:02b5cac9-d3a3-440b-8e55-9fc78ebf2edd
URL:https://events.org/e/The-Strike-21-Event/FS45USHA
BEGIN:VALARM
ACTION:DISPLAY
SUMMARY:Reminder
TRIGGER:-P1D
END:VALARM
END:VEVENT
END:VCALENDAR
