BEGIN:VCALENDAR
METHOD:REQUEST
PRODID:-//events.orgNONSGML ical.net 4.0//EN
VERSION:2.0
BEGIN:VEVENT
DTEND;VALUE=DATE:20260603
DTSTAMP:20260421T094108Z
DTSTART;VALUE=DATE:20260603
LOCATION:Denver Improv\, Denver
ORGANIZER;CN=:mailto:events@events.org
SEQUENCE:0
SUMMARY:Mark Paul: The Daddy Ball Tour
UID:b5de1c31-ceba-4b8b-be40-e7528fab261b
URL:https://events.org/e/Mark-Paul-The-Daddy-Ball-Tour/O699UJSQ
BEGIN:VALARM
ACTION:DISPLAY
SUMMARY:Reminder
TRIGGER:-P1D
END:VALARM
END:VEVENT
END:VCALENDAR
