BEGIN:VCALENDAR
METHOD:REQUEST
PRODID:-//events.orgNONSGML ical.net 4.0//EN
VERSION:2.0
BEGIN:VEVENT
DTEND;VALUE=DATE:20260619
DTSTAMP:20260424T092617Z
DTSTART;VALUE=DATE:20260619
LOCATION:Neptune Theatre\, Seattle
ORGANIZER;CN=:mailto:events@events.org
SEQUENCE:0
SUMMARY:Corbyn Besson and Soulidified: The Pop'n Out Tour
UID:d6a81fb5-fb82-4d9e-8433-a095c001d4c7
URL:https://events.org/e/Corbyn-Besson-and-Soulidified-The-Popn-Out-Tour/A
 DGXBE4U
BEGIN:VALARM
ACTION:DISPLAY
SUMMARY:Reminder
TRIGGER:-P1D
END:VALARM
END:VEVENT
END:VCALENDAR
