BEGIN:VCALENDAR
METHOD:REQUEST
PRODID:-//events.orgNONSGML ical.net 4.0//EN
VERSION:2.0
BEGIN:VEVENT
DTEND;VALUE=DATE:20260617
DTSTAMP:20260419T130141Z
DTSTART;VALUE=DATE:20260617
LOCATION:Bagley Wright Theatre\, Seattle
ORGANIZER;CN=:mailto:events@events.org
SEQUENCE:0
SUMMARY:The Play That Goes Wrong
UID:27eef150-df6c-43a4-a8b0-747b5ba25cfb
URL:https://events.org/e/The-Play-That-Goes-Wrong/TQVB52O7
BEGIN:VALARM
ACTION:DISPLAY
SUMMARY:Reminder
TRIGGER:-P1D
END:VALARM
END:VEVENT
END:VCALENDAR
