BEGIN:VCALENDAR
METHOD:REQUEST
PRODID:-//events.orgNONSGML ical.net 4.0//EN
VERSION:2.0
BEGIN:VEVENT
DTEND;VALUE=DATE:20260514
DTSTAMP:20260422T091347Z
DTSTART;VALUE=DATE:20260514
LOCATION:Houston Improv\, Houston
ORGANIZER;CN=:mailto:events@events.org
SEQUENCE:0
SUMMARY:Couples Therapy with Jesse Peyton
UID:9526a404-d7fb-43a4-9ba7-bbac8f98e794
URL:https://events.org/e/Couples-Therapy-with-Jesse-Peyton/2VLEXE5B
BEGIN:VALARM
ACTION:DISPLAY
SUMMARY:Reminder
TRIGGER:-P1D
END:VALARM
END:VEVENT
END:VCALENDAR
