BEGIN:VCALENDAR
METHOD:REQUEST
PRODID:-//events.orgNONSGML ical.net 4.0//EN
VERSION:2.0
BEGIN:VEVENT
DTEND;VALUE=DATE:20260527
DTSTAMP:20260424T080745Z
DTSTART;VALUE=DATE:20260527
LOCATION:Chicago Architecture Center - First Lady\, Chicago
ORGANIZER;CN=:mailto:events@events.org
SEQUENCE:0
SUMMARY:Chicago Architecture Center River Cruise Aboard First Lady
UID:f03f961e-54e1-4d7b-bd69-487ff33532e1
URL:https://events.org/e/Chicago-Architecture-Center-River-Cruise-Aboa/RA5
 W9EAU
BEGIN:VALARM
ACTION:DISPLAY
SUMMARY:Reminder
TRIGGER:-P1D
END:VALARM
END:VEVENT
END:VCALENDAR
