BEGIN:VCALENDAR
METHOD:REQUEST
PRODID:-//events.orgNONSGML ical.net 4.0//EN
VERSION:2.0
BEGIN:VEVENT
DTEND;VALUE=DATE:20260426
DTSTAMP:20260424T081411Z
DTSTART;VALUE=DATE:20260426
LOCATION:Radio City Music Hall Tour Experience\, New York
ORGANIZER;CN=:mailto:events@events.org
SEQUENCE:0
SUMMARY:Radio City Music Hall Tour Experience
UID:56de676e-e9c7-4a47-bac1-6cae875daba8
URL:https://events.org/e/Radio-City-Music-Hall-Tour-Experience/EGNS7T9I
BEGIN:VALARM
ACTION:DISPLAY
SUMMARY:Reminder
TRIGGER:-P1D
END:VALARM
END:VEVENT
END:VCALENDAR
