BEGIN:VCALENDAR
METHOD:REQUEST
PRODID:-//events.orgNONSGML ical.net 4.0//EN
VERSION:2.0
BEGIN:VEVENT
DTEND;VALUE=DATE:20260603
DTSTAMP:20260421T102316Z
DTSTART;VALUE=DATE:20260603
LOCATION:Paramount Theatre\, Denver
ORGANIZER;CN=:mailto:events@events.org
SEQUENCE:0
SUMMARY:Dr. Neil deGrasse Tyson - Delusions of Space Enthusiasts
UID:f6564e83-3f67-4fbb-afd9-92f7e598f83a
URL:https://events.org/e/Dr-Neil-deGrasse-Tyson---Delusions-of-Space-E/YAI
 CF52W
BEGIN:VALARM
ACTION:DISPLAY
SUMMARY:Reminder
TRIGGER:-P1D
END:VALARM
END:VEVENT
END:VCALENDAR
