BEGIN:VCALENDAR
METHOD:REQUEST
PRODID:-//events.orgNONSGML ical.net 4.0//EN
VERSION:2.0
BEGIN:VEVENT
DTEND;VALUE=DATE:20260530
DTSTAMP:20260421T094517Z
DTSTART;VALUE=DATE:20260530
LOCATION:Club Vinyl\, Denver
ORGANIZER;CN=:mailto:events@events.org
SEQUENCE:0
SUMMARY:Tokyo Machine
UID:b7e7030e-49e3-4a56-8b4c-8c7e68d0bcae
URL:https://events.org/e/Tokyo-Machine/EW8OIBT6
BEGIN:VALARM
ACTION:DISPLAY
SUMMARY:Reminder
TRIGGER:-P1D
END:VALARM
END:VEVENT
END:VCALENDAR
