BEGIN:VCALENDAR
METHOD:REQUEST
PRODID:-//events.orgNONSGML ical.net 4.0//EN
VERSION:2.0
BEGIN:VEVENT
DTEND;VALUE=DATE:20260522
DTSTAMP:20260419T154609Z
DTSTART;VALUE=DATE:20260522
LOCATION:Big Night Live\, Boston
ORGANIZER;CN=:mailto:events@events.org
SEQUENCE:0
SUMMARY:450 & Ding Dong Live ( 21+ )
UID:a81dc92c-b049-466c-bb67-571340a70157
URL:https://events.org/e/450-Ding-Dong-Live-21/4TJ5JFY9
BEGIN:VALARM
ACTION:DISPLAY
SUMMARY:Reminder
TRIGGER:-P1D
END:VALARM
END:VEVENT
END:VCALENDAR
