BEGIN:VCALENDAR
METHOD:REQUEST
PRODID:-//events.orgNONSGML ical.net 4.0//EN
VERSION:2.0
BEGIN:VEVENT
DTEND;VALUE=DATE:20260627
DTSTAMP:20260422T090809Z
DTSTART;VALUE=DATE:20260627
LOCATION:Bagley Wright Theatre\, Seattle
ORGANIZER;CN=:mailto:events@events.org
SEQUENCE:0
SUMMARY:The Play That Goes Wrong
UID:297c6df3-12f4-44a2-95f2-27cfa5be4518
URL:https://events.org/e/The-Play-That-Goes-Wrong/A3YTOLG4
BEGIN:VALARM
ACTION:DISPLAY
SUMMARY:Reminder
TRIGGER:-P1D
END:VALARM
END:VEVENT
END:VCALENDAR
