BEGIN:VCALENDAR
METHOD:REQUEST
PRODID:-//events.orgNONSGML ical.net 4.0//EN
VERSION:2.0
BEGIN:VEVENT
DTEND;VALUE=DATE:20260501
DTSTAMP:20260421T104513Z
DTSTART;VALUE=DATE:20260501
LOCATION:Moore Theatre\, Seattle
ORGANIZER;CN=:mailto:events@events.org
SEQUENCE:0
SUMMARY:Bbhs Drama: The Music Man
UID:19f38fbd-0bfb-4e72-8104-3c42ff4a3109
URL:https://events.org/e/Bbhs-Drama-The-Music-Man/AIIT4MP7
BEGIN:VALARM
ACTION:DISPLAY
SUMMARY:Reminder
TRIGGER:-P1D
END:VALARM
END:VEVENT
END:VCALENDAR
