BEGIN:VCALENDAR
METHOD:REQUEST
PRODID:-//events.orgNONSGML ical.net 4.0//EN
VERSION:2.0
BEGIN:VEVENT
DTEND;VALUE=DATE:20260518
DTSTAMP:20260422T102812Z
DTSTART;VALUE=DATE:20260518
LOCATION:Brick By Brick\, San Diego
ORGANIZER;CN=:mailto:events@events.org
SEQUENCE:0
SUMMARY:Inoculation with special guests
UID:f5183f95-639e-4775-bf29-0ef6b59fe3ee
URL:https://events.org/e/Inoculation-with-special-guests/3INRQLIE
BEGIN:VALARM
ACTION:DISPLAY
SUMMARY:Reminder
TRIGGER:-P1D
END:VALARM
END:VEVENT
END:VCALENDAR
