BEGIN:VCALENDAR
METHOD:REQUEST
PRODID:-//events.orgNONSGML ical.net 4.0//EN
VERSION:2.0
BEGIN:VEVENT
DTEND;VALUE=DATE:20260527
DTSTAMP:20260424T080614Z
DTSTART;VALUE=DATE:20260527
LOCATION:United Center\, Chicago
ORGANIZER;CN=:mailto:events@events.org
SEQUENCE:0
SUMMARY:A$AP Rocky - Don't Be Dumb World Tour
UID:65cb0d42-8460-4d60-9cae-3793ff7baa51
URL:https://events.org/e/AAP-Rocky---Dont-Be-Dumb-World-Tour/MHAOHC9W
BEGIN:VALARM
ACTION:DISPLAY
SUMMARY:Reminder
TRIGGER:-P1D
END:VALARM
END:VEVENT
END:VCALENDAR
