BEGIN:VCALENDAR
METHOD:REQUEST
PRODID:-//events.orgNONSGML ical.net 4.0//EN
VERSION:2.0
BEGIN:VEVENT
DTEND;VALUE=DATE:20260529
DTSTAMP:20260421T095555Z
DTSTART;VALUE=DATE:20260529
LOCATION:Tractor\, Seattle
ORGANIZER;CN=:mailto:events@events.org
SEQUENCE:0
SUMMARY:Pretty in Pink: 5th Annual Pink Prom with Prom Date Mixtape and DJ
  Trent Von
UID:a2e9cb53-e238-4167-bc4e-dae73e17c41f
URL:https://events.org/e/Pretty-in-Pink-5th-Annual-Pink-Prom-with-Prom/AWB
 4YVLC
BEGIN:VALARM
ACTION:DISPLAY
SUMMARY:Reminder
TRIGGER:-P1D
END:VALARM
END:VEVENT
END:VCALENDAR
