BEGIN:VCALENDAR
METHOD:REQUEST
PRODID:-//events.orgNONSGML ical.net 4.0//EN
VERSION:2.0
BEGIN:VEVENT
DTEND;VALUE=DATE:20260427
DTSTAMP:20260423T134143Z
DTSTART;VALUE=DATE:20260427
LOCATION:Empty Bottle\, Chicago
ORGANIZER;CN=:mailto:events@events.org
SEQUENCE:0
SUMMARY:FREE MONDAY w/ Telehealth / Axis: Sova / Bog Power
UID:166e6be5-bf37-4918-91c8-843ab138e1ef
URL:https://events.org/e/FREE-MONDAY-w-Telehealth-Axis-Sova-Bog-Power/UJYT
 QR7D
BEGIN:VALARM
ACTION:DISPLAY
SUMMARY:Reminder
TRIGGER:-P1D
END:VALARM
END:VEVENT
END:VCALENDAR
