BEGIN:VCALENDAR
METHOD:REQUEST
PRODID:-//events.orgNONSGML ical.net 4.0//EN
VERSION:2.0
BEGIN:VEVENT
DTEND;VALUE=DATE:20260625
DTSTAMP:20260424T081053Z
DTSTART;VALUE=DATE:20260625
LOCATION:Punch Line Philly\, Philadelphia
ORGANIZER;CN=:mailto:events@events.org
SEQUENCE:0
SUMMARY:Red Card Comedy: A Comedy Show With Balls
UID:82da8079-1570-43dc-b1e5-8d4849214d9f
URL:https://events.org/e/Red-Card-Comedy-A-Comedy-Show-With-Balls/YHVHEPQ8
BEGIN:VALARM
ACTION:DISPLAY
SUMMARY:Reminder
TRIGGER:-P1D
END:VALARM
END:VEVENT
END:VCALENDAR
