BEGIN:VCALENDAR
METHOD:REQUEST
PRODID:-//events.orgNONSGML ical.net 4.0//EN
VERSION:2.0
BEGIN:VEVENT
DTEND;VALUE=DATE:20260531
DTSTAMP:20260419T142801Z
DTSTART;VALUE=DATE:20260531
LOCATION:Paramount Theatre\, Denver
ORGANIZER;CN=:mailto:events@events.org
SEQUENCE:0
SUMMARY:Andres Cepeda - Bogota La Gira
UID:661e6f01-77c8-4b67-b01c-e7407c71987d
URL:https://events.org/e/Andres-Cepeda---Bogota-La-Gira/8MAUUK2O
BEGIN:VALARM
ACTION:DISPLAY
SUMMARY:Reminder
TRIGGER:-P1D
END:VALARM
END:VEVENT
END:VCALENDAR
