BEGIN:VCALENDAR
METHOD:REQUEST
PRODID:-//events.orgNONSGML ical.net 4.0//EN
VERSION:2.0
BEGIN:VEVENT
DTEND;VALUE=DATE:20250808
DTSTAMP:20260419T133631Z
DTSTART;VALUE=DATE:20250808
LOCATION:713 Music Hall\, Houston
ORGANIZER;CN=:mailto:events@events.org
SEQUENCE:0
SUMMARY:Hudson Westbrook
UID:7242eab6-f841-426a-96b6-1647e8281a64
URL:https://events.org/e/Hudson-Westbrook/VXFH2UF2
BEGIN:VALARM
ACTION:DISPLAY
SUMMARY:Reminder
TRIGGER:-P1D
END:VALARM
END:VEVENT
END:VCALENDAR
