BEGIN:VCALENDAR
METHOD:REQUEST
PRODID:-//events.orgNONSGML ical.net 4.0//EN
VERSION:2.0
BEGIN:VEVENT
DTEND;VALUE=DATE:20260618
DTSTAMP:20260421T082311Z
DTSTART;VALUE=DATE:20260618
LOCATION:Denver Improv\, Denver
ORGANIZER;CN=:mailto:events@events.org
SEQUENCE:0
SUMMARY:Jerry Wayne Longmire
UID:0a0d5147-b520-46e7-b980-973b382077f7
URL:https://events.org/e/Jerry-Wayne-Longmire/S79HJYCU
BEGIN:VALARM
ACTION:DISPLAY
SUMMARY:Reminder
TRIGGER:-P1D
END:VALARM
END:VEVENT
END:VCALENDAR
