BEGIN:VCALENDAR
METHOD:REQUEST
PRODID:-//events.orgNONSGML ical.net 4.0//EN
VERSION:2.0
BEGIN:VEVENT
DTEND;VALUE=DATE:20260525
DTSTAMP:20260421T094756Z
DTSTART;VALUE=DATE:20260525
LOCATION:Universoul Circus - Atlanta - Old Turner Field Grey Lot\, Atlanta
ORGANIZER;CN=:mailto:events@events.org
SEQUENCE:0
SUMMARY:UniverSoul Circus
UID:4e6a3ebf-45cd-4a49-a453-c7df07bc4c27
URL:https://events.org/e/UniverSoul-Circus/R8D3D73C
BEGIN:VALARM
ACTION:DISPLAY
SUMMARY:Reminder
TRIGGER:-P1D
END:VALARM
END:VEVENT
END:VCALENDAR
