BEGIN:VCALENDAR
METHOD:REQUEST
PRODID:-//events.orgNONSGML ical.net 4.0//EN
VERSION:2.0
BEGIN:VEVENT
DTEND;VALUE=DATE:20260630
DTSTAMP:20260421T094932Z
DTSTART;VALUE=DATE:20260630
LOCATION:Royale Boston\, Boston
ORGANIZER;CN=:mailto:events@events.org
SEQUENCE:0
SUMMARY:The Cab w/ Paradise Fears
UID:d7767bb8-246b-4389-ae32-9ee23f8217ab
URL:https://events.org/e/The-Cab-w-Paradise-Fears/67P3W4HL
BEGIN:VALARM
ACTION:DISPLAY
SUMMARY:Reminder
TRIGGER:-P1D
END:VALARM
END:VEVENT
END:VCALENDAR
