BEGIN:VCALENDAR
METHOD:REQUEST
PRODID:-//events.orgNONSGML ical.net 4.0//EN
VERSION:2.0
BEGIN:VEVENT
DTEND;VALUE=DATE:20260821
DTSTAMP:20260419T174026Z
DTSTART;VALUE=DATE:20260821
LOCATION:American Airlines Center\, Dallas
ORGANIZER;CN=:mailto:events@events.org
SEQUENCE:0
SUMMARY:Benson Boone: Wanted Man Tour
UID:617951a6-ca1b-43a3-b392-bfc9122f460f
URL:https://events.org/e/Benson-Boone-Wanted-Man-Tour/BGJKS6U3
BEGIN:VALARM
ACTION:DISPLAY
SUMMARY:Reminder
TRIGGER:-P1D
END:VALARM
END:VEVENT
END:VCALENDAR
