BEGIN:VCALENDAR
METHOD:REQUEST
PRODID:-//events.orgNONSGML ical.net 4.0//EN
VERSION:2.0
BEGIN:VEVENT
DTEND;VALUE=DATE:20260501
DTSTAMP:20260421T144354Z
DTSTART;VALUE=DATE:20260501
LOCATION:August Hall\, San Francisco
ORGANIZER;CN=:mailto:events@events.org
SEQUENCE:0
SUMMARY:Noise Complaints Presents: The Late Night R&B Experience
UID:bbd4aa30-0e8d-48fa-afe6-1a2a9a70848a
URL:https://events.org/e/Noise-Complaints-Presents-The-Late-Night-RB-E/QHM
 DYVS4
BEGIN:VALARM
ACTION:DISPLAY
SUMMARY:Reminder
TRIGGER:-P1D
END:VALARM
END:VEVENT
END:VCALENDAR
