BEGIN:VCALENDAR
METHOD:REQUEST
PRODID:-//events.orgNONSGML ical.net 4.0//EN
VERSION:2.0
BEGIN:VEVENT
DTEND;VALUE=DATE:20260720
DTSTAMP:20260422T091217Z
DTSTART;VALUE=DATE:20260720
LOCATION:Daikin Park\, Houston
ORGANIZER;CN=:mailto:events@events.org
SEQUENCE:0
SUMMARY:Houston Astros vs Miami Marlins: City Connect Monday
UID:a4957dae-0a87-47c5-8f23-20a96f34f1cf
URL:https://events.org/e/Houston-Astros-vs-Miami-Marlins-City-Connect/2XQ9
 XB4H
BEGIN:VALARM
ACTION:DISPLAY
SUMMARY:Reminder
TRIGGER:-P1D
END:VALARM
END:VEVENT
END:VCALENDAR
