BEGIN:VCALENDAR
METHOD:REQUEST
PRODID:-//events.orgNONSGML ical.net 4.0//EN
VERSION:2.0
BEGIN:VEVENT
DTEND;VALUE=DATE:20260530
DTSTAMP:20260419T143424Z
DTSTART;VALUE=DATE:20260530
LOCATION:Tractor\, Seattle
ORGANIZER;CN=:mailto:events@events.org
SEQUENCE:0
SUMMARY:Washed in Black (Pearl Jam) w/ Jar of Flies (Alice in Chains) | An
 nual 90's Tribute Show w/ Two of Seattle's Best!
UID:06af0043-785d-4070-a1e9-3b307e7fe82c
URL:https://events.org/e/Washed-in-Black-Pearl-Jam-w-Jar-of-Flies-Alic/XFT
 577IF
BEGIN:VALARM
ACTION:DISPLAY
SUMMARY:Reminder
TRIGGER:-P1D
END:VALARM
END:VEVENT
END:VCALENDAR
