BEGIN:VCALENDAR
METHOD:REQUEST
PRODID:-//events.orgNONSGML ical.net 4.0//EN
VERSION:2.0
BEGIN:VEVENT
DTEND;VALUE=DATE:20260626
DTSTAMP:20260419T154021Z
DTSTART;VALUE=DATE:20260626
LOCATION:The Grand (Boston)\, Boston
ORGANIZER;CN=:mailto:events@events.org
SEQUENCE:0
SUMMARY:Oliver Heldens
UID:650d14c9-1c1d-4f6b-95d0-216cd2c1bf78
URL:https://events.org/e/Oliver-Heldens/2P4YEAOB
BEGIN:VALARM
ACTION:DISPLAY
SUMMARY:Reminder
TRIGGER:-P1D
END:VALARM
END:VEVENT
END:VCALENDAR
