BEGIN:VCALENDAR
METHOD:REQUEST
PRODID:-//events.orgNONSGML ical.net 4.0//EN
VERSION:2.0
BEGIN:VEVENT
DTEND;VALUE=DATE:20260531
DTSTAMP:20260421T094507Z
DTSTART;VALUE=DATE:20260531
LOCATION:La Rumba\, Denver
ORGANIZER;CN=:mailto:events@events.org
SEQUENCE:0
SUMMARY:SALSA & BACHATA SUNDAYS
UID:59296920-0396-442b-8cf9-e7a1f758478d
URL:https://events.org/e/SALSA-BACHATA-SUNDAYS/VWV8FDYY
BEGIN:VALARM
ACTION:DISPLAY
SUMMARY:Reminder
TRIGGER:-P1D
END:VALARM
END:VEVENT
END:VCALENDAR
