BEGIN:VCALENDAR
METHOD:REQUEST
PRODID:-//events.orgNONSGML ical.net 4.0//EN
VERSION:2.0
BEGIN:VEVENT
DTEND;VALUE=DATE:20260503
DTSTAMP:20260421T104142Z
DTSTART;VALUE=DATE:20260503
LOCATION:The Rebel Lounge\, Phoenix
ORGANIZER;CN=:mailto:events@events.org
SEQUENCE:0
SUMMARY:Devin Kennedy w/ Taylor Bickett
UID:2fb129c5-541c-4dd8-90f5-4834bf4a453c
URL:https://events.org/e/Devin-Kennedy-w-Taylor-Bickett/QVYC7IHI
BEGIN:VALARM
ACTION:DISPLAY
SUMMARY:Reminder
TRIGGER:-P1D
END:VALARM
END:VEVENT
END:VCALENDAR
