BEGIN:VCALENDAR
METHOD:REQUEST
PRODID:-//events.orgNONSGML ical.net 4.0//EN
VERSION:2.0
BEGIN:VEVENT
DTEND;VALUE=DATE:20260428
DTSTAMP:20260424T080429Z
DTSTART;VALUE=DATE:20260428
LOCATION:Samuel J Friedman Theatre\, New York
ORGANIZER;CN=:mailto:events@events.org
SEQUENCE:0
SUMMARY:The Balusters
UID:12538c48-9ee2-4935-a0c5-a6da3a76f5e3
URL:https://events.org/e/The-Balusters/GW63Q5OD
BEGIN:VALARM
ACTION:DISPLAY
SUMMARY:Reminder
TRIGGER:-P1D
END:VALARM
END:VEVENT
END:VCALENDAR
