BEGIN:VCALENDAR
METHOD:REQUEST
PRODID:-//events.orgNONSGML ical.net 4.0//EN
VERSION:2.0
BEGIN:VEVENT
DTEND;VALUE=DATE:20260427
DTSTAMP:20260421T095111Z
DTSTART;VALUE=DATE:20260427
LOCATION:Rate Field\, Chicago
ORGANIZER;CN=:mailto:events@events.org
SEQUENCE:0
SUMMARY:Chicago White Sox vs. Los Angeles Angels
UID:241b8f48-da85-40e1-bd49-6e948a4d3699
URL:https://events.org/e/Chicago-White-Sox-vs-Los-Angeles-Angels/X8LSYPVQ
BEGIN:VALARM
ACTION:DISPLAY
SUMMARY:Reminder
TRIGGER:-P1D
END:VALARM
END:VEVENT
END:VCALENDAR
