BEGIN:VCALENDAR
METHOD:REQUEST
PRODID:-//events.orgNONSGML ical.net 4.0//EN
VERSION:2.0
BEGIN:VEVENT
DTEND;VALUE=DATE:20260422
DTSTAMP:20260422T092302Z
DTSTART;VALUE=DATE:20260422
LOCATION:Belasco Theatre\, New York
ORGANIZER;CN=:mailto:events@events.org
SEQUENCE:0
SUMMARY:Maybe Happy Ending
UID:085a2dc5-c37f-4d3e-b3ff-1c84b7d4b278
URL:https://events.org/e/Maybe-Happy-Ending/YLL2UA5B
BEGIN:VALARM
ACTION:DISPLAY
SUMMARY:Reminder
TRIGGER:-P1D
END:VALARM
END:VEVENT
END:VCALENDAR
