BEGIN:VCALENDAR
METHOD:REQUEST
PRODID:-//events.orgNONSGML ical.net 4.0//EN
VERSION:2.0
BEGIN:VEVENT
DTEND;VALUE=DATE:20260625
DTSTAMP:20260421T094620Z
DTSTART;VALUE=DATE:20260625
LOCATION:Citizens Opera House\, Boston
ORGANIZER;CN=:mailto:events@events.org
SEQUENCE:0
SUMMARY:Les Miserables (Touring)
UID:389b7b9b-6691-4804-9ad6-aead4995ae91
URL:https://events.org/e/Les-Miserables-Touring/LU86R2F6
BEGIN:VALARM
ACTION:DISPLAY
SUMMARY:Reminder
TRIGGER:-P1D
END:VALARM
END:VEVENT
END:VCALENDAR
