BEGIN:VCALENDAR
METHOD:REQUEST
PRODID:-//events.orgNONSGML ical.net 4.0//EN
VERSION:2.0
BEGIN:VEVENT
DTEND;VALUE=DATE:20260607
DTSTAMP:20260421T104445Z
DTSTART;VALUE=DATE:20260607
LOCATION:La Rumba\, Denver
ORGANIZER;CN=:mailto:events@events.org
SEQUENCE:0
SUMMARY:SALSA & BACHATA SUNDAYS
UID:0bec72de-4ce3-46ce-845e-70dffa59fe4a
URL:https://events.org/e/SALSA-BACHATA-SUNDAYS/NAP9S5P2
BEGIN:VALARM
ACTION:DISPLAY
SUMMARY:Reminder
TRIGGER:-P1D
END:VALARM
END:VEVENT
END:VCALENDAR
